BEGIN:VCALENDAR
VERSION:2.0
PRODID:-//Associazione Graffiti
CALSCALE:GREGORIAN
METHOD:PUBLISH
X-WR-CALNAME:Associazione Graffiti
X-ORIGINAL-URL:https://graffitiscuola.it/event/mostra-fragments-di-antonio-mazzarella/
X-WR-CALDESC:Mostra &#8220;FRAGMENTS&#8221; &#8211; di Antonio Mazzarella
BEGIN:VEVENT
DTSTART:
DTEND:
SUMMARY:Mostra &#8220;FRAGMENTS&#8221; &#8211; di Antonio Mazzarella
DESCRIPTION:Domenica 18 dicembre 2022 - Mostra "FRAGMENTS" di Antonio Mazzarella
LOCATION:
END:VEVENT
END:VCALENDAR
