BEGIN:VCALENDAR
VERSION:2.0
PRODID:-//Associazione Graffiti
CALSCALE:GREGORIAN
METHOD:PUBLISH
X-WR-CALNAME:Associazione Graffiti
X-ORIGINAL-URL:https://graffitiscuola.it/event/vincere-world-press-photo/
X-WR-CALDESC:Seminario: Vincere il World Press Photo
BEGIN:VEVENT
DTSTART:20100419T193000
DTEND:20100419T210000
SUMMARY:Seminario: Vincere il World Press Photo
DESCRIPTION:“Vincere il World Press Photo” 
A cura di Pietro Di Giambattista - Vincitore del World Press Photo 2002 -
LOCATION:Via Latina, 515
END:VEVENT
END:VCALENDAR
