BEGIN:VCALENDAR
VERSION:2.0
PRODID:-//Associazione Graffiti
CALSCALE:GREGORIAN
METHOD:PUBLISH
X-WR-CALNAME:Associazione Graffiti
X-ORIGINAL-URL:https://graffitiscuola.it/event/seminario-fotografia/
X-WR-CALDESC:Seminario: Immagine, percezione e cervello &#8211; 17 Marzo 2016
BEGIN:VEVENT
DTSTART:20150317T190000
DTEND:20150317T203000
SUMMARY:Seminario: Immagine, percezione e cervello &#8211; 17 Marzo 2016
DESCRIPTION:SEMINARIO DI FOTOGRAFIA
LOCATION:Via Latina, 515
END:VEVENT
END:VCALENDAR
