BEGIN:VCALENDAR
VERSION:2.0
PRODID:-//Associazione Graffiti
CALSCALE:GREGORIAN
METHOD:PUBLISH
X-WR-CALNAME:Associazione Graffiti
X-ORIGINAL-URL:https://graffitiscuola.it/event/unica-occasione/
X-WR-CALDESC:Seminario: Unica Occasione
BEGIN:VEVENT
DTSTART:20130514T193000
DTEND:20130514T093000
SUMMARY:Seminario: Unica Occasione
DESCRIPTION:Seminario di fotografia e giornalismo

"UNICA OCCASIONE"
LOCATION:Via Latina, 515
END:VEVENT
END:VCALENDAR
