BEGIN:VCALENDAR
VERSION:2.0
PRODID:-//Associazione Graffiti
CALSCALE:GREGORIAN
METHOD:PUBLISH
X-WR-CALNAME:Associazione Graffiti
X-ORIGINAL-URL:https://graffitiscuola.it/event/un-fotoreporter-allestero/
X-WR-CALDESC:Seminario: Un Fotoreporter all’Estero
BEGIN:VEVENT
DTSTART:20120625T193000
DTEND:20120625T210000
SUMMARY:Seminario: Un Fotoreporter all’Estero
DESCRIPTION:Un Fotoreporter all’Estero
LOCATION:Via Latina, 515
END:VEVENT
END:VCALENDAR
