BEGIN:VCALENDAR
VERSION:2.0
PRODID:-//Associazione Graffiti
CALSCALE:GREGORIAN
METHOD:PUBLISH
X-WR-CALNAME:Associazione Graffiti
X-ORIGINAL-URL:https://graffitiscuola.it/event/nudo-artistico/
X-WR-CALDESC:Seminario: Il Nudo Artistico
BEGIN:VEVENT
DTSTART:20100616T193000
DTEND:20100616T210000
SUMMARY:Seminario: Il Nudo Artistico
DESCRIPTION:Il nudo artistico
LOCATION:Via Latina, 515
END:VEVENT
END:VCALENDAR
