BEGIN:VCALENDAR
VERSION:2.0
PRODID:-//Associazione Graffiti
CALSCALE:GREGORIAN
METHOD:PUBLISH
X-WR-CALNAME:Associazione Graffiti
X-ORIGINAL-URL:https://graffitiscuola.it/event/mostra-e-presentazione-libri-covid-autori-vari-graffiti/
X-WR-CALDESC:Mostra e Presentazione Libri COVID / Autori vari &#8211; Graffiti
BEGIN:VEVENT
DTSTART:
DTEND:
SUMMARY:Mostra e Presentazione Libri COVID / Autori vari &#8211; Graffiti
DESCRIPTION:Mostra e Presentazione Libri COVID / Autori vari
Sabato 18 giugno 2022
Museo delle Civiltà
LOCATION:
END:VEVENT
END:VCALENDAR
