BEGIN:VCALENDAR
VERSION:2.0
PRODID:-//Associazione Graffiti
CALSCALE:GREGORIAN
METHOD:PUBLISH
X-WR-CALNAME:Associazione Graffiti
X-ORIGINAL-URL:https://graffitiscuola.it/event/seminario-fotografia-fotografia-giudiziaria/
X-WR-CALDESC:Seminario: La Fotografia Giudiziaria
BEGIN:VEVENT
DTSTART:20100713T193000
DTEND:20100713T210000
SUMMARY:Seminario: La Fotografia Giudiziaria
DESCRIPTION:Seminario di fotografia: La Fotografia Giudiziaria

LOCATION:Via Latina, 515
END:VEVENT
END:VCALENDAR
