BEGIN:VCALENDAR
VERSION:2.0
PRODID:-//Associazione Graffiti
CALSCALE:GREGORIAN
METHOD:PUBLISH
X-WR-CALNAME:Associazione Graffiti
X-ORIGINAL-URL:https://graffitiscuola.it/event/trekking-urbano-fotografico-quadraro-e-tor-pignattara-domenica-22-maggio-2022/
X-WR-CALDESC:Trekking urbano fotografico: Quadraro e Tor Pignattara &#8211; Domenica 22 maggio 2022
BEGIN:VEVENT
DTSTART:
DTEND:
SUMMARY:Trekking urbano fotografico: Quadraro e Tor Pignattara &#8211; Domenica 22 maggio 2022
DESCRIPTION:Trekking urbano fotografico: 
"MUSEO A CIELO APERTO" (Quadraro e Tor Pignattara)
Domenica 22 maggio 2022 ore 09.30/13.00
LOCATION:
END:VEVENT
END:VCALENDAR
