BEGIN:VCALENDAR
VERSION:2.0
PRODID:-//Associazione Graffiti
CALSCALE:GREGORIAN
METHOD:PUBLISH
X-WR-CALNAME:Associazione Graffiti
X-ORIGINAL-URL:https://graffitiscuola.it/event/seminario-visione-film/
X-WR-CALDESC:Seminario e Visione Film
BEGIN:VEVENT
DTSTART:20130531T193000
DTEND:20130531T213000
SUMMARY:Seminario e Visione Film
DESCRIPTION:SEMINARIO E VISIONE FILM
LOCATION:Via Latina, 515
END:VEVENT
END:VCALENDAR
