BEGIN:VCALENDAR
VERSION:2.0
PRODID:-//Associazione Graffiti
CALSCALE:GREGORIAN
METHOD:PUBLISH
X-WR-CALNAME:Associazione Graffiti
X-ORIGINAL-URL:https://graffitiscuola.it/event/presentazione-del-libro-fotografico-fragments-10-years-on-stage-in-rome-di-antonio-mazzarella-graffiti/
X-WR-CALDESC:Presentazione del Libro Fotografico “FRAGMENTS/10 YEARS ON STAGE IN ROME&#8221; di Antonio Mazzarella/Graffiti
BEGIN:VEVENT
DTSTART:
DTEND:
SUMMARY:Presentazione del Libro Fotografico “FRAGMENTS/10 YEARS ON STAGE IN ROME&#8221; di Antonio Mazzarella/Graffiti
DESCRIPTION:Presentazione del Libro Fotografico
“FRAGMENTS/10 YEARS ON STAGE IN ROME"
di Antonio Mazzarella/Graffiti
LOCATION:
END:VEVENT
END:VCALENDAR
