BEGIN:VCALENDAR
VERSION:2.0
PRODID:-//Associazione Graffiti
CALSCALE:GREGORIAN
METHOD:PUBLISH
X-WR-CALNAME:Associazione Graffiti
X-ORIGINAL-URL:https://graffitiscuola.it/event/escursione-fotografica-tor-caldara-e-il-bosco-del-foglino-sabato-9-aprile-2022/
X-WR-CALDESC:Escursione fotografica: TOR CALDARA E IL BOSCO DEL FOGLINO &#8211; Sabato 9 aprile 2022
BEGIN:VEVENT
DTSTART:
DTEND:
SUMMARY:Escursione fotografica: TOR CALDARA E IL BOSCO DEL FOGLINO &#8211; Sabato 9 aprile 2022
DESCRIPTION:Escursione fotografica: TOR CALDARA E IL BOSCO DEL FOGLINO - Sabato 9 aprile 2022
LOCATION:
END:VEVENT
END:VCALENDAR
