BEGIN:VCALENDAR
VERSION:2.0
PRODID:-//Associazione Graffiti
CALSCALE:GREGORIAN
METHOD:PUBLISH
X-WR-CALNAME:Associazione Graffiti
X-ORIGINAL-URL:https://graffitiscuola.it/event/presentazione-del-libro-e-inaugurazione-della-mostra-fotografica-dear-palestine-di-roberta-micagli-graffiti/
X-WR-CALDESC:Presentazione del Libro e inaugurazione della Mostra Fotografica &#8220;DEAR PALESTINE&#8221; di Roberta Micagli/Graffiti
BEGIN:VEVENT
DTSTART:
DTEND:
SUMMARY:Presentazione del Libro e inaugurazione della Mostra Fotografica &#8220;DEAR PALESTINE&#8221; di Roberta Micagli/Graffiti
DESCRIPTION:Presentazione Libro e Inaugurazione Mostra Fotografica “DEAR PALESTINE” di Roberta Micagli/
Edizione Graffiti

LOCATION:
END:VEVENT
END:VCALENDAR
