BEGIN:VCALENDAR
VERSION:2.0
PRODID:-//Associazione Graffiti
CALSCALE:GREGORIAN
METHOD:PUBLISH
X-WR-CALNAME:Associazione Graffiti
X-ORIGINAL-URL:https://graffitiscuola.it/event/lattrezzatura-fotografica-trucchi-tecniche-averla-sempre-efficiente/
X-WR-CALDESC:Seminario: L&#8217;attrezzatura fotografica &#8211; trucchi e tecniche per averla sempre efficiente
BEGIN:VEVENT
DTSTART:20100623T193000
DTEND:20100623T210000
SUMMARY:Seminario: L&#8217;attrezzatura fotografica &#8211; trucchi e tecniche per averla sempre efficiente
DESCRIPTION:L'attrezzatura Fotografica: Trucchi e Tecniche per Averla Sempre Efficiente
LOCATION:Via Latina, 515
END:VEVENT
END:VCALENDAR
