BEGIN:VCALENDAR
VERSION:2.0
PRODID:-//Associazione Graffiti
CALSCALE:GREGORIAN
METHOD:PUBLISH
X-WR-CALNAME:Associazione Graffiti
X-ORIGINAL-URL:https://graffitiscuola.it/event/libro-fotografico-covid19-verso-la-luce-vol-ii-di-autori-vari-edizione-graffiti/
X-WR-CALDESC:Libro Fotografico &#8220;COVID19 &#8211; Verso la luce&#8221; di Autori Vari &#8211; Edizione Graffiti
BEGIN:VEVENT
DTSTART:
DTEND:
SUMMARY:Libro Fotografico &#8220;COVID19 &#8211; Verso la luce&#8221; di Autori Vari &#8211; Edizione Graffiti
DESCRIPTION:Libro Fotografico "COVID19 - Verso la luce" di Autori Vari - Edizione Graffiti
LOCATION:
END:VEVENT
END:VCALENDAR
