BEGIN:VCALENDAR
VERSION:2.0
PRODID:-//Associazione Graffiti
CALSCALE:GREGORIAN
METHOD:PUBLISH
X-WR-CALNAME:Associazione Graffiti
X-ORIGINAL-URL:https://graffitiscuola.it/event/come-costruisce-reportage-cura-valerio-bispuri/
X-WR-CALDESC:Seminario: &#8220;Come si costruisce un Reportage&#8221; A cura di Valerio Bispuri
BEGIN:VEVENT
DTSTART:20101013T193000
DTEND:20101013T090000
SUMMARY:Seminario: &#8220;Come si costruisce un Reportage&#8221; A cura di Valerio Bispuri
DESCRIPTION:"Come si costruisce un Reportage"
 
A cura di Valerio Bispuri

LOCATION:Via Latina, 515
END:VEVENT
END:VCALENDAR
