BEGIN:VCALENDAR
VERSION:2.0
PRODID:-//Associazione Graffiti
CALSCALE:GREGORIAN
METHOD:PUBLISH
X-WR-CALNAME:Associazione Graffiti
X-ORIGINAL-URL:https://graffitiscuola.it/event/il-teatro-sospeso-dancing-locked-down-di-damiano-mongelli-edizione-graffiti/
X-WR-CALDESC:&#8220;IL TEATRO SOSPESO/Dancing locked-down&#8221; di Damiano Mongelli/Edizione Graffiti
BEGIN:VEVENT
DTSTART:
DTEND:
SUMMARY:&#8220;IL TEATRO SOSPESO/Dancing locked-down&#8221; di Damiano Mongelli/Edizione Graffiti
DESCRIPTION:"IL TEATRO SOSPESO / Dancing locked-down"
di Damiano Mongelli/Casa Editrice Graffiti
LOCATION:
END:VEVENT
END:VCALENDAR
