BEGIN:VCALENDAR
VERSION:2.0
PRODID:-//Associazione Graffiti
CALSCALE:GREGORIAN
METHOD:PUBLISH
X-WR-CALNAME:Associazione Graffiti
X-ORIGINAL-URL:https://graffitiscuola.it/event/6243/
X-WR-CALDESC:Presentazione del Libro e inaugurazione della Mostra Fotografica &#8220;IL TEATRO SOSPESO&#8221; Dancing locked-down di Damiano Mongelli/Graffiti
BEGIN:VEVENT
DTSTART:
DTEND:
SUMMARY:Presentazione del Libro e inaugurazione della Mostra Fotografica &#8220;IL TEATRO SOSPESO&#8221; Dancing locked-down di Damiano Mongelli/Graffiti
DESCRIPTION:Presentazione del Libro e inaugurazione della Mostra Fotografica "IL TEATRO SOSPESO" Dancing locked-down di Damiano Mongelli/Graffiti
LOCATION:
END:VEVENT
END:VCALENDAR
