BEGIN:VCALENDAR
VERSION:2.0
PRODID:-//Associazione Graffiti
CALSCALE:GREGORIAN
METHOD:PUBLISH
X-WR-CALNAME:Associazione Graffiti
X-ORIGINAL-URL:https://graffitiscuola.it/event/fragments-10-years-on-stage-in-rome-di-antonio-mazzarella-edizione-graffiti/
X-WR-CALDESC:“FRAGMENTS” 10 YEARS ON STAGE IN ROME di Antonio Mazzarella / Edizione Graffiti
BEGIN:VEVENT
DTSTART:
DTEND:
SUMMARY:“FRAGMENTS” 10 YEARS ON STAGE IN ROME di Antonio Mazzarella / Edizione Graffiti
DESCRIPTION:“FRAGMENTS” 10 YEARS ON STAGE IN ROME di Antonio Mazzarella
Casa Editrice: GRAFFITI 

LOCATION:
END:VEVENT
END:VCALENDAR
