BEGIN:VCALENDAR
VERSION:2.0
PRODID:-//Associazione Graffiti
CALSCALE:GREGORIAN
METHOD:PUBLISH
X-WR-CALNAME:Associazione Graffiti
X-ORIGINAL-URL:https://graffitiscuola.it/event/libro-fotografico-dear-palestine-di-roberta-micagli-edizione-graffiti/
X-WR-CALDESC:Libro Fotografico “DEAR PALESTINE&#8221; di Roberta Micagli / Edizione Graffiti
BEGIN:VEVENT
DTSTART:
DTEND:
SUMMARY:Libro Fotografico “DEAR PALESTINE&#8221; di Roberta Micagli / Edizione Graffiti
DESCRIPTION:“DEAR PALESTINE” di Roberta Micagli
Casa Editrice: GRAFFITI 


LOCATION:
END:VEVENT
END:VCALENDAR
