BEGIN:VCALENDAR
VERSION:2.0
PRODID:-//Associazione Graffiti
CALSCALE:GREGORIAN
METHOD:PUBLISH
X-WR-CALNAME:Associazione Graffiti
X-ORIGINAL-URL:https://graffitiscuola.it/event/seminario-lettura-portfolio-cura-valerio-bispuri/
X-WR-CALDESC:“Seminario e lettura portfolio” A cura di Valerio Bispuri
BEGIN:VEVENT
DTSTART:20090613T100000
DTEND:20090613T140000
SUMMARY:“Seminario e lettura portfolio” A cura di Valerio Bispuri
DESCRIPTION:“Seminario e lettura portfolio” A cura di Valerio Bispuri
LOCATION:Via Latina, 515
END:VEVENT
END:VCALENDAR
