BEGIN:VCALENDAR
VERSION:2.0
PRODID:-//Associazione Graffiti
CALSCALE:GREGORIAN
METHOD:PUBLISH
X-WR-CALNAME:Associazione Graffiti
X-ORIGINAL-URL:https://graffitiscuola.it/event/seminario-epson-stampa-fine-art-colori/
X-WR-CALDESC:Seminario Epson: &#8220;La Stampa Fine Art a Colori&#8221;
BEGIN:VEVENT
DTSTART:20130122T193000
DTEND:20130122T210000
SUMMARY:Seminario Epson: &#8220;La Stampa Fine Art a Colori&#8221;
DESCRIPTION:Seminario di fotografia

EPSON "La stampa Fine Art: a Colori"
LOCATION:Via Latina, 515
END:VEVENT
END:VCALENDAR
