BEGIN:VCALENDAR
VERSION:2.0
PRODID:-//Associazione Graffiti
CALSCALE:GREGORIAN
METHOD:PUBLISH
X-WR-CALNAME:Associazione Graffiti
X-ORIGINAL-URL:https://graffitiscuola.it/event/escursione-fotografica-cervara-laghetto-di-san-benedetto-sabato-18-settembre-2021/
X-WR-CALDESC:Escursione fotografica: Cervara/Laghetto di San Benedetto &#8211; Sabato 18 settembre 2021
BEGIN:VEVENT
DTSTART:
DTEND:
SUMMARY:Escursione fotografica: Cervara/Laghetto di San Benedetto &#8211; Sabato 18 settembre 2021
DESCRIPTION:Escursione fotografica: Cervara/Laghetto di San Benedetto - Sabato 18 settembre 2021 
LOCATION:
END:VEVENT
END:VCALENDAR
