BEGIN:VCALENDAR
VERSION:2.0
PRODID:-//Associazione Graffiti
CALSCALE:GREGORIAN
METHOD:PUBLISH
X-WR-CALNAME:Associazione Graffiti
X-ORIGINAL-URL:https://graffitiscuola.it/event/seminario-epson-ultrachrome-k3-tecnologia-bianco-nero-digitale/
X-WR-CALDESC:Seminario Epson: UltraChrome K3 – Tecnologia per il Bianco e Nero Digitale
BEGIN:VEVENT
DTSTART:20110119T193000
DTEND:20110119T210000
SUMMARY:Seminario Epson: UltraChrome K3 – Tecnologia per il Bianco e Nero Digitale
DESCRIPTION:Seminario di fotografia 
Epson : "UltraChrome K3 – tecnologia per il Bianco e Nero digitale”
LOCATION:Via Latina, 515
END:VEVENT
END:VCALENDAR
