BEGIN:VCALENDAR
VERSION:2.0
PRODID:-//Associazione Graffiti
CALSCALE:GREGORIAN
METHOD:PUBLISH
X-WR-CALNAME:Associazione Graffiti
X-ORIGINAL-URL:https://graffitiscuola.it/event/trekking-urbano-fotografico-corviale-e-trullo-domenica-13-giugno-2021/
X-WR-CALDESC:Trekking urbano fotografico: Corviale e Trullo &#8211; Domenica 13 giugno 2021
BEGIN:VEVENT
DTSTART:
DTEND:
SUMMARY:Trekking urbano fotografico: Corviale e Trullo &#8211; Domenica 13 giugno 2021
DESCRIPTION:Domenica 13 giugno 2021
Trekking urbano fotografico: Corviale e Trullo
LOCATION:
END:VEVENT
END:VCALENDAR
