BEGIN:VCALENDAR
VERSION:2.0
PRODID:-//Associazione Graffiti
CALSCALE:GREGORIAN
METHOD:PUBLISH
X-WR-CALNAME:Associazione Graffiti
X-ORIGINAL-URL:https://graffitiscuola.it/event/mostra-fotografica-lalba-a-bagan/
X-WR-CALDESC:Mostra Fotografica L&#8217;ALBA A BAGAN di Alessandra Modesti fino al 30 settembre 2021
BEGIN:VEVENT
DTSTART:
DTEND:
SUMMARY:Mostra Fotografica L&#8217;ALBA A BAGAN di Alessandra Modesti fino al 30 settembre 2021
DESCRIPTION:Mostra Fotografica L'ALBA A BAGAN di Alessandra Modesti 19 e 20 Giugno 2021
LOCATION:Via Latina 515
END:VEVENT
END:VCALENDAR
