BEGIN:VCALENDAR
VERSION:2.0
PRODID:-//Associazione Graffiti
CALSCALE:GREGORIAN
METHOD:PUBLISH
X-WR-CALNAME:Associazione Graffiti
X-ORIGINAL-URL:https://graffitiscuola.it/event/libro-fotografico-covid19-immagini-da-un-anno-buio-di-autori-vari-edizione-graffiti/
X-WR-CALDESC:Libro Fotografico &#8220;COVID19 &#8211; Immagini da un anno buio&#8221; di Autori Vari &#8211; Edizione Graffiti
BEGIN:VEVENT
DTSTART:
DTEND:
SUMMARY:Libro Fotografico &#8220;COVID19 &#8211; Immagini da un anno buio&#8221; di Autori Vari &#8211; Edizione Graffiti
DESCRIPTION:Libro Fotografico “COVID19 - Immagini da un anno buio”
di Autori Vari – Edizione Graffiti
LOCATION:
END:VEVENT
END:VCALENDAR
