BEGIN:VCALENDAR
VERSION:2.0
PRODID:-//Associazione Graffiti
CALSCALE:GREGORIAN
METHOD:PUBLISH
X-WR-CALNAME:Associazione Graffiti
X-ORIGINAL-URL:https://graffitiscuola.it/event/masterclass-di-reportage-in-streaming-venerdi-17-luglio-2020/
X-WR-CALDESC:MASTERCLASS DI REPORTAGE IN STREAMING &#8211; Venerdì 17 luglio 2020 ore 18
BEGIN:VEVENT
DTSTART:
DTEND:
SUMMARY:MASTERCLASS DI REPORTAGE IN STREAMING &#8211; Venerdì 17 luglio 2020 ore 18
DESCRIPTION:Masterclass di Reportage a cura del Maestro Gianni Pinnizzotto

LOCATION:
END:VEVENT
END:VCALENDAR
