BEGIN:VCALENDAR
VERSION:2.0
PRODID:-//Associazione Graffiti
CALSCALE:GREGORIAN
METHOD:PUBLISH
X-WR-CALNAME:Associazione Graffiti
X-ORIGINAL-URL:https://graffitiscuola.it/event/idee-di-scatto-iorestoacasa/
X-WR-CALDESC:Idee di Scatto &#8211; #iorestoacasa
BEGIN:VEVENT
DTSTART:
DTEND:
SUMMARY:Idee di Scatto &#8211; #iorestoacasa
DESCRIPTION:IDEE DI SCATTO
Prendiamo spunto dai Grandi Maestri della Fotografia
LOCATION:
END:VEVENT
END:VCALENDAR
