BEGIN:VCALENDAR
VERSION:2.0
PRODID:-//Associazione Graffiti
CALSCALE:GREGORIAN
METHOD:PUBLISH
X-WR-CALNAME:Associazione Graffiti
X-ORIGINAL-URL:https://graffitiscuola.it/event/lettura-portfolio-a-cura-di-gianni-pinnizzotto/
X-WR-CALDESC:Lettura Portfolio a cura del Maestro Gianni Pinnizzotto
BEGIN:VEVENT
DTSTART:
DTEND:
SUMMARY:Lettura Portfolio a cura del Maestro Gianni Pinnizzotto
DESCRIPTION:LETTURA PORTFOLIO PER TUTTI
LOCATION:
END:VEVENT
END:VCALENDAR
