BEGIN:VCALENDAR
VERSION:2.0
PRODID:-//Associazione Graffiti
CALSCALE:GREGORIAN
METHOD:PUBLISH
X-WR-CALNAME:Associazione Graffiti
X-ORIGINAL-URL:https://graffitiscuola.it/event/rubrica-dedicata-alla-grande-editoria-fotografica-a-cura-del-maestro-gianni-pinnizzotto/
X-WR-CALDESC:Rubrica dedicata alla grande editoria fotografica a cura del Maestro Gianni Pinnizzotto
BEGIN:VEVENT
DTSTART:
DTEND:
SUMMARY:Rubrica dedicata alla grande editoria fotografica a cura del Maestro Gianni Pinnizzotto
DESCRIPTION:Rubrica dedicata alla grande editoria fotografica a cura del Maestro Gianni Pinnizzotto
LOCATION:
END:VEVENT
END:VCALENDAR
