BEGIN:VCALENDAR
VERSION:2.0
PRODID:-//Associazione Graffiti
CALSCALE:GREGORIAN
METHOD:PUBLISH
X-WR-CALNAME:Associazione Graffiti
X-ORIGINAL-URL:https://graffitiscuola.it/event/mostra-fotografica-passions-and-words/
X-WR-CALDESC:Mostra Fotografica &#8220;Passions and Words&#8221; &#8211; Giovedì 22 ottobre 2020 ore 18/21
BEGIN:VEVENT
DTSTART:
DTEND:
SUMMARY:Mostra Fotografica &#8220;Passions and Words&#8221; &#8211; Giovedì 22 ottobre 2020 ore 18/21
DESCRIPTION:Mostra Fotografica "Passions and Words"
Inaugurazione Giovedì 22 ottobre 2020 ore 18.00

LOCATION:
END:VEVENT
END:VCALENDAR
