BEGIN:VCALENDAR
VERSION:2.0
PRODID:-//Associazione Graffiti
CALSCALE:GREGORIAN
METHOD:PUBLISH
X-WR-CALNAME:Associazione Graffiti
X-ORIGINAL-URL:https://graffitiscuola.it/event/visita-guidata-alla-mostra-fotografica-gastel-2020/
X-WR-CALDESC:Visita guidata alla Mostra Fotografica di Giovanni Gastel &#8211; Domenica 18 ottobre 2020 ore 10.30
BEGIN:VEVENT
DTSTART:
DTEND:
SUMMARY:Visita guidata alla Mostra Fotografica di Giovanni Gastel &#8211; Domenica 18 ottobre 2020 ore 10.30
DESCRIPTION:Visita guidata alla Mostra Fotografica di Giovanni Gastel
Domenica 18 ottobre 2020 ore 10.30
LOCATION:
END:VEVENT
END:VCALENDAR
