BEGIN:VCALENDAR
VERSION:2.0
PRODID:-//Associazione Graffiti
CALSCALE:GREGORIAN
METHOD:PUBLISH
X-WR-CALNAME:Associazione Graffiti
X-ORIGINAL-URL:https://graffitiscuola.it/event/seminari-la-storia-della-fotografia-a-cura-del-maestro-gianni-pinnizzotto-2/
X-WR-CALDESC:Seminario di Fotografia Online a cura del Maestro Gianni Pinnizzotto
BEGIN:VEVENT
DTSTART:
DTEND:
SUMMARY:Seminario di Fotografia Online a cura del Maestro Gianni Pinnizzotto
DESCRIPTION:Seminario di Fotografia Online
A cura del Maestro Gianni Pinnizzotto
Sabato 12 Marzo 2022 ore 18 
LOCATION:
END:VEVENT
END:VCALENDAR
