BEGIN:VCALENDAR
VERSION:2.0
PRODID:-//Associazione Graffiti
CALSCALE:GREGORIAN
METHOD:PUBLISH
X-WR-CALNAME:Associazione Graffiti
X-ORIGINAL-URL:https://graffitiscuola.it/event/seminari-la-storia-della-fotografia-a-cura-del-maestro-gianni-pinnizzotto/
X-WR-CALDESC:Aperitivo Fotografico &#038; Seminario: La Storia della Fotografia a cura del Maestro Gianni Pinnizzotto
BEGIN:VEVENT
DTSTART:
DTEND:
SUMMARY:Aperitivo Fotografico &#038; Seminario: La Storia della Fotografia a cura del Maestro Gianni Pinnizzotto
DESCRIPTION:Sabato 30 Gennaio 2021 ore 18 
Seminario ONLINE a cura del Maestro Gianni Pinnizzotto

LOCATION:Via Latina, 515
END:VEVENT
END:VCALENDAR
