BEGIN:VCALENDAR
VERSION:2.0
PRODID:-//Associazione Graffiti
CALSCALE:GREGORIAN
METHOD:PUBLISH
X-WR-CALNAME:Associazione Graffiti
X-ORIGINAL-URL:https://graffitiscuola.it/event/concorso-fotografico-gratuito-fotosocial/
X-WR-CALDESC:Concorso fotografico gratuito: FOTOSOCIAL 2020 &#8211; VI Edizione Graffiti &#038; ACLI
BEGIN:VEVENT
DTSTART:
DTEND:
SUMMARY:Concorso fotografico gratuito: FOTOSOCIAL 2020 &#8211; VI Edizione Graffiti &#038; ACLI
DESCRIPTION:FOTOSOCIAL 2020
Concorso fotografico gratuito
LOCATION:
END:VEVENT
END:VCALENDAR
