BEGIN:VCALENDAR
VERSION:2.0
PRODID:-//Associazione Graffiti
CALSCALE:GREGORIAN
METHOD:PUBLISH
X-WR-CALNAME:Associazione Graffiti
X-ORIGINAL-URL:https://graffitiscuola.it/event/workshop-fotografico-sulle-punte-con-ballerina-professionista/
X-WR-CALDESC:Workshop Fotografico &#8220;SULLE PUNTE&#8221; con modella e ballerina professionista &#8211; 2026
BEGIN:VEVENT
DTSTART:
DTEND:
SUMMARY:Workshop Fotografico &#8220;SULLE PUNTE&#8221; con modella e ballerina professionista &#8211; 2026
DESCRIPTION:WORKSHOP FOTOGRAFICO "SULLE PUNTE"
Shooting in esterna con ballerina/modella professionista

LOCATION:
END:VEVENT
END:VCALENDAR
