BEGIN:VCALENDAR
VERSION:2.0
PRODID:-//Associazione Graffiti
CALSCALE:GREGORIAN
METHOD:PUBLISH
X-WR-CALNAME:Associazione Graffiti
X-ORIGINAL-URL:https://graffitiscuola.it/event/workshop-fotografico-splash-larte-di-congelare-il-movimento/
X-WR-CALDESC:Workshop Fotografico &#8220;SPLASH&#8221;: L&#8217;arte di congelare il movimento &#8211; 1 luglio 2026
BEGIN:VEVENT
DTSTART:
DTEND:
SUMMARY:Workshop Fotografico &#8220;SPLASH&#8221;: L&#8217;arte di congelare il movimento &#8211; 1 luglio 2026
DESCRIPTION:WORKSHOP FOTOGRAFICO
“SPLASH”: L’ARTE DI CONGELARE IL MOVIMENTO
1 luglio 2026
LOCATION:Via Latina 515
END:VEVENT
END:VCALENDAR
