BEGIN:VCALENDAR
VERSION:2.0
PRODID:-//Associazione Graffiti
CALSCALE:GREGORIAN
METHOD:PUBLISH
X-WR-CALNAME:Associazione Graffiti
X-ORIGINAL-URL:https://graffitiscuola.it/event/visita-guidata-gratuita-mostra-fotografica-robert-mapplethorpe-domenica-12-maggio-2019-ore-11/
X-WR-CALDESC:Visita guidata gratuita: Mostra Fotografica di Robert Mapplethorpe &#8211; Domenica 12 Maggio 2019 ore 11
BEGIN:VEVENT
DTSTART:
DTEND:
SUMMARY:Visita guidata gratuita: Mostra Fotografica di Robert Mapplethorpe &#8211; Domenica 12 Maggio 2019 ore 11
DESCRIPTION:Visita guidata gratuita a cura del Direttore della Graffiti Gianni Pinnizzotto alla Mostra Fotografica “L’obiettivo sensibile” di Robert Mapplethorpe
Domenica 12 maggio 2019 ore 11
LOCATION:Galleria Corsini, Via della Lungara, 10 - Roma
END:VEVENT
END:VCALENDAR
