BEGIN:VCALENDAR
VERSION:2.0
PRODID:-//Associazione Graffiti
CALSCALE:GREGORIAN
METHOD:PUBLISH
X-WR-CALNAME:Associazione Graffiti
X-ORIGINAL-URL:https://graffitiscuola.it/event/visita-guidata-gratuita-mostra-fotografica-world-press-photo/
X-WR-CALDESC:Visita guidata gratuita: Mostra Fotografica World Press Photo &#8211; Sabato 1 giugno 2024 ore 16.00
BEGIN:VEVENT
DTSTART:
DTEND:
SUMMARY:Visita guidata gratuita: Mostra Fotografica World Press Photo &#8211; Sabato 1 giugno 2024 ore 16.00
DESCRIPTION:Visita guidata alla Mostra Fotografica
"World Press Photo"
Sabato 1 giugno 2024 ore 16
LOCATION:Palazzo delle Esposizioni - Via Nazionale, 194 Roma
END:VEVENT
END:VCALENDAR
