BEGIN:VCALENDAR
VERSION:2.0
PRODID:-//Associazione Graffiti
CALSCALE:GREGORIAN
METHOD:PUBLISH
X-WR-CALNAME:Associazione Graffiti
X-ORIGINAL-URL:https://graffitiscuola.it/event/libro-fotografico-unusual-visions-di-emiliano-pinnizzotto-edizione-graffiti/
X-WR-CALDESC:Libro Fotografico &#8220;UNUSUAL VISIONS&#8221; di Emiliano Pinnizzotto &#8211; Edizione Graffiti
BEGIN:VEVENT
DTSTART:
DTEND:
SUMMARY:Libro Fotografico &#8220;UNUSUAL VISIONS&#8221; di Emiliano Pinnizzotto &#8211; Edizione Graffiti
DESCRIPTION:Libro Fotografico "UNUSUAL VISIONS" di Emiliano Pinnizzotto - Edizione Graffiti
LOCATION:Via Latina, 515
END:VEVENT
END:VCALENDAR
