BEGIN:VCALENDAR
VERSION:2.0
PRODID:-//Associazione Graffiti
CALSCALE:GREGORIAN
METHOD:PUBLISH
X-WR-CALNAME:Associazione Graffiti
X-ORIGINAL-URL:https://graffitiscuola.it/event/presentazione-libro-fotografico-unusual-visions-di-emiliano-pinnizzotto-sabato-23-marzo-2019-ore-18/
X-WR-CALDESC:Presentazione libro fotografico &#8220;UNUSUAL VISIONS&#8221; di Emiliano Pinnizzotto &#8211; Sabato 23 marzo 2019 ore 18
BEGIN:VEVENT
DTSTART:
DTEND:
SUMMARY:Presentazione libro fotografico &#8220;UNUSUAL VISIONS&#8221; di Emiliano Pinnizzotto &#8211; Sabato 23 marzo 2019 ore 18
DESCRIPTION:Presentazione libro fotografico "UNUSUAL VISIONS" di Emiliano Pinnizzotto 
Sabato 23 marzo 2019 ore 18
MACRO - Via Nizza, 138 - Roma
LOCATION:Via Nizza, 138 
END:VEVENT
END:VCALENDAR
