BEGIN:VCALENDAR
VERSION:2.0
PRODID:-//Associazione Graffiti
CALSCALE:GREGORIAN
METHOD:PUBLISH
X-WR-CALNAME:Associazione Graffiti
X-ORIGINAL-URL:https://graffitiscuola.it/event/inaugurazione-mostra-gruppo-fotografico-m-i-t-sabato-16-marzo-2019-ore-18/
X-WR-CALDESC:Inaugurazione Mostra Gruppo Fotografico M.I.T. &#8211; Sabato 16 marzo 2019 ore 18
BEGIN:VEVENT
DTSTART:
DTEND:
SUMMARY:Inaugurazione Mostra Gruppo Fotografico M.I.T. &#8211; Sabato 16 marzo 2019 ore 18
DESCRIPTION:Sabato 16 marzo ore 18.00
Inaugurazione Mostra Fotografica del Gruppo Fotografico M.I.T.
Dal 16 al 29 marzo 2019
LOCATION:Via Latina, 515
END:VEVENT
END:VCALENDAR
