BEGIN:VCALENDAR
VERSION:2.0
PRODID:-//Associazione Graffiti
CALSCALE:GREGORIAN
METHOD:PUBLISH
X-WR-CALNAME:Associazione Graffiti
X-ORIGINAL-URL:https://graffitiscuola.it/event/inaugurazione-mostra-fotografica-world-i-5-continenti-di-simone-tetti-graffiti/
X-WR-CALDESC:Inaugurazione Mostra Fotografica &#8220;WORLD! i 5 continenti&#8221; di Simone Tetti &#8211; Graffiti
BEGIN:VEVENT
DTSTART:
DTEND:
SUMMARY:Inaugurazione Mostra Fotografica &#8220;WORLD! i 5 continenti&#8221; di Simone Tetti &#8211; Graffiti
DESCRIPTION:Sabato 9 marzo ore 18.00
Inaugurazione Mostra Fotografica "WORLD! i 5 continenti" di Simone Tetti - Graffiti
Dal 9 al 14 marzo 2019
LOCATION:
END:VEVENT
END:VCALENDAR
