BEGIN:VCALENDAR
VERSION:2.0
PRODID:-//Associazione Graffiti
CALSCALE:GREGORIAN
METHOD:PUBLISH
X-WR-CALNAME:Associazione Graffiti
X-ORIGINAL-URL:https://graffitiscuola.it/event/inaugurazione-mostra-armando-casali-2/
X-WR-CALDESC:Inaugurazione Mostra Fotografica &#8220;Istantanee&#8230; trasformazioni&#8221; di Armando Casali
BEGIN:VEVENT
DTSTART:
DTEND:
SUMMARY:Inaugurazione Mostra Fotografica &#8220;Istantanee&#8230; trasformazioni&#8221; di Armando Casali
DESCRIPTION:Inaugurazione Mostra Fotografica "ISTANTANEE... TRASFORMAZIONI" di Armando Casali
LOCATION:Via Angelo Poliziano, 78/b
END:VEVENT
END:VCALENDAR
