BEGIN:VCALENDAR
VERSION:2.0
PRODID:-//Associazione Graffiti
CALSCALE:GREGORIAN
METHOD:PUBLISH
X-WR-CALNAME:Associazione Graffiti
X-ORIGINAL-URL:https://graffitiscuola.it/event/seminario-di-fotografia-graffiti-dallo-smartphone-alla-reflex-mercoledi-6-marzo-ore-19/
X-WR-CALDESC:Seminario di Fotografia Graffiti &#8220;DALLO SMARTPHONE ALLA REFLEX&#8230;&#8221; &#8211; Mercoledì 6 marzo 2019 ore 19
BEGIN:VEVENT
DTSTART:
DTEND:
SUMMARY:Seminario di Fotografia Graffiti &#8220;DALLO SMARTPHONE ALLA REFLEX&#8230;&#8221; &#8211; Mercoledì 6 marzo 2019 ore 19
DESCRIPTION:Seminario di Fotografia Graffiti 
"DALLO SMARTPHONE ALLA REFLEX..."
A cura di Paolo Carbone
Mercoledì 6 marzo 2019 - ore 19 
LOCATION:Via Latina, 515
END:VEVENT
END:VCALENDAR
