BEGIN:VCALENDAR
VERSION:2.0
PRODID:-//Associazione Graffiti
CALSCALE:GREGORIAN
METHOD:PUBLISH
X-WR-CALNAME:Associazione Graffiti
X-ORIGINAL-URL:https://graffitiscuola.it/event/inaugurazione-mostra-fotografica-di-emiliano-pinnizzotto-paolo-sollazzo-maria-mulas-lunedi-4-marzo-2019-gallerja/
X-WR-CALDESC:Inaugurazione Mostra Fotografica di Emiliano Pinnizzotto &#8211; Paolo Sollazzo &#8211; Maria Mulas: Lunedì 4 marzo 2019 &#8211; Gallerja
BEGIN:VEVENT
DTSTART:
DTEND:
SUMMARY:Inaugurazione Mostra Fotografica di Emiliano Pinnizzotto &#8211; Paolo Sollazzo &#8211; Maria Mulas: Lunedì 4 marzo 2019 &#8211; Gallerja
DESCRIPTION:Lunedì 4 marzo 2019 ore 18.00- Gallerja 
Inaugurazione Mostra Fotografica
di Emiliano Pinnizzotto - Paolo Sollazzo - Maria Mulas
LOCATION:Via della Lupa, 24 - Roma
END:VEVENT
END:VCALENDAR
