BEGIN:VCALENDAR
VERSION:2.0
PRODID:-//Associazione Graffiti
CALSCALE:GREGORIAN
METHOD:PUBLISH
X-WR-CALNAME:Associazione Graffiti
X-ORIGINAL-URL:https://graffitiscuola.it/event/inaugurazione-mostra-teatro-fotografico-di-angela-matarozzi-2/
X-WR-CALDESC:Inaugurazione Mostra &#8220;Teatro Fotografico&#8221; di Angela Matarozzi
BEGIN:VEVENT
DTSTART:
DTEND:
SUMMARY:Inaugurazione Mostra &#8220;Teatro Fotografico&#8221; di Angela Matarozzi
DESCRIPTION:Inaugurazione Mostra "TEATRO FOTOGRAFICO" di Angela Matarozzi 
LOCATION:Via Panisperna, 59
END:VEVENT
END:VCALENDAR
