BEGIN:VCALENDAR
VERSION:2.0
PRODID:-//Associazione Graffiti
CALSCALE:GREGORIAN
METHOD:PUBLISH
X-WR-CALNAME:Associazione Graffiti
X-ORIGINAL-URL:https://graffitiscuola.it/event/inaugurazione-mostra-roma/
X-WR-CALDESC:Inaugurazione Mostra Fotografica Graffiti &#8220;ROMA &#8211; Tra luci e ombre&#8221; &#8211; Autori vari
BEGIN:VEVENT
DTSTART:
DTEND:
SUMMARY:Inaugurazione Mostra Fotografica Graffiti &#8220;ROMA &#8211; Tra luci e ombre&#8221; &#8211; Autori vari
DESCRIPTION:Inaugurazione Mostra Fotografica Graffiti "ROMA - Tra luci e ombre" di Autori Vari
Università di Roma Tor Vergata - Macroarea di Lettere e Filosofia
LOCATION:Via Columbia, 1 - Roma
END:VEVENT
END:VCALENDAR
