BEGIN:VCALENDAR
VERSION:2.0
PRODID:-//Associazione Graffiti
CALSCALE:GREGORIAN
METHOD:PUBLISH
X-WR-CALNAME:Associazione Graffiti
X-ORIGINAL-URL:https://graffitiscuola.it/event/mfr19-mese-della-fotografia-di-roma-marzo-2019/
X-WR-CALDESC:MFR19 &#8211; Mese della Fotografia di Roma &#8211; Marzo 2019
BEGIN:VEVENT
DTSTART:
DTEND:
SUMMARY:MFR19 &#8211; Mese della Fotografia di Roma &#8211; Marzo 2019
DESCRIPTION:
LOCATION:Via Latina, 515
END:VEVENT
END:VCALENDAR
